BEGIN:VCALENDAR
VERSION:2.0
PRODID:-//UPIKE//NONSGML v1.0//EN
CALSCALE:GREGORIAN
METHOD:PUBLISH
BEGIN:VEVENT
UID:174573-0
SUMMARY:3/5 University of Pikeville Baseball vs Lindsey Wilson College (Ky.)
DTSTART:20210305T000000Z
DTEND:20210305T080000Z
DTSTAMP:20201119T215349Z
LAST-MODIFIED:20201119T215349Z
SEQUENCE:0
DESCRIPTION:University of Pikeville Baseball vs Lindsey Wilson College (Ky.)n https://www.upikebears.com/calendar.aspx?id=6017
END:VEVENT
END:VCALENDAR