BEGIN:VCALENDAR
VERSION:2.0
PRODID:-//UPIKE//NONSGML v1.0//EN
CALSCALE:GREGORIAN
METHOD:PUBLISH
BEGIN:VEVENT
UID:174566-0
SUMMARY:3/10 University of Pikeville Baseball at Kentucky State University
DTSTART:20210310T000000Z
DTEND:20210310T080000Z
DTSTAMP:20201119T215347Z
LAST-MODIFIED:20201119T215347Z
SEQUENCE:0
DESCRIPTION:University of Pikeville Baseball at Kentucky State Universityn https://www.upikebears.com/calendar.aspx?id=6020
END:VEVENT
END:VCALENDAR