BEGIN:VCALENDAR
VERSION:2.0
PRODID:-//UPIKE//NONSGML v1.0//EN
CALSCALE:GREGORIAN
METHOD:PUBLISH
BEGIN:VEVENT
UID:174433-0
SUMMARY:2/23 University of Pikeville Baseball at West Virginia University Institute of Technology
DTSTART:20210223T000000Z
DTEND:20210223T080000Z
DTSTAMP:20201119T205333Z
LAST-MODIFIED:20201119T205333Z
SEQUENCE:0
DESCRIPTION:University of Pikeville Baseball at West Virginia University Institute of Technologyn https://www.upikebears.com/calendar.aspx?id=6011
END:VEVENT
END:VCALENDAR