BEGIN:VCALENDAR
VERSION:2.0
PRODID:-//UPIKE//NONSGML v1.0//EN
CALSCALE:GREGORIAN
METHOD:PUBLISH
BEGIN:VEVENT
UID:14262-0
SUMMARY:3/29 7:00 PM [L] University of Pikeville Baseball at Lindsey Wilson College (Ky.)
DTSTART:20190329T020000Z
DTEND:20190330T230000Z
DTSTAMP:20190330T035502Z
LAST-MODIFIED:20190330T035502Z
SEQUENCE:0
DESCRIPTION:[L] University of Pikeville Baseball at Lindsey Wilson College (Ky.)nL 10-15n https://www.upikebears.com/calendar.aspx?id=5246
END:VEVENT
END:VCALENDAR