BEGIN:VCALENDAR
VERSION:2.0
PRODID:-//UPIKE//NONSGML v1.0//EN
CALSCALE:GREGORIAN
METHOD:PUBLISH
BEGIN:VEVENT
UID:109312-0
SUMMARY:10/30 5:45 PM University of Pikeville Men's Cross Country vs Kentucky Christian University
DTSTART:20201030T214500Z
DTEND:20201031T004500Z
DTSTAMP:20201027T015351Z
LAST-MODIFIED:20201027T015351Z
SEQUENCE:0
DESCRIPTION:University of Pikeville Men's Cross Country vs Kentucky Christian Universityn https://www.upikebears.com/calendar.aspx?id=5988
END:VEVENT
END:VCALENDAR