BEGIN:VCALENDAR
VERSION:2.0
PRODID:-//UPIKE//NONSGML v1.0//EN
CALSCALE:GREGORIAN
METHOD:PUBLISH
BEGIN:VEVENT
UID:109301-0
SUMMARY:5/2 University of Pikeville Women's Bowling vs USBC Intercollegiate Singles / Team Championship
DTSTART:20210502T000000Z
DTEND:20210508T035900Z
DTSTAMP:20201027T015348Z
LAST-MODIFIED:20201027T015348Z
SEQUENCE:0
DESCRIPTION:University of Pikeville Women's Bowling vs USBC Intercollegiate Singles / Team Championshipn https://www.upikebears.com/calendar.aspx?id=6001
END:VEVENT
END:VCALENDAR