BEGIN:VCALENDAR
VERSION:2.0
PRODID:-//UPIKE//NONSGML v1.0//EN
CALSCALE:GREGORIAN
METHOD:PUBLISH
BEGIN:VEVENT
UID:109299-0
SUMMARY:2/27 University of Pikeville Women's Bowling vs MSC Conference Event
DTSTART:20210227T000000Z
DTEND:20210228T045900Z
DTSTAMP:20201027T015347Z
LAST-MODIFIED:20201027T015347Z
SEQUENCE:0
DESCRIPTION:University of Pikeville Women's Bowling vs MSC Conference Eventn https://www.upikebears.com/calendar.aspx?id=5997
END:VEVENT
END:VCALENDAR